BEGIN:VCALENDAR
VERSION:2.0
PRODID:-//Colegio Loyola - ECPv6.15.13.1//NONSGML v1.0//EN
CALSCALE:GREGORIAN
METHOD:PUBLISH
X-WR-CALNAME:Colegio Loyola
X-ORIGINAL-URL:https://colegioloyola.edu.gt
X-WR-CALDESC:Events for Colegio Loyola
REFRESH-INTERVAL;VALUE=DURATION:PT1H
X-Robots-Tag:noindex
X-PUBLISHED-TTL:PT1H
BEGIN:VTIMEZONE
TZID:UTC
BEGIN:STANDARD
TZOFFSETFROM:+0000
TZOFFSETTO:+0000
TZNAME:UTC
DTSTART:20210101T000000
END:STANDARD
END:VTIMEZONE
BEGIN:VEVENT
DTSTART;VALUE=DATE:20220605
DTEND;VALUE=DATE:20220606
DTSTAMP:20260421T030711
CREATED:20211001T031240Z
LAST-MODIFIED:20211001T031240Z
UID:4800-1654387200-1654473599@colegioloyola.edu.gt
SUMMARY:Día del medio ambiente
DESCRIPTION:Procuremos siempre que nuestros actos dejen una huella verde en nuestro camino.
URL:https://colegioloyola.edu.gt/calendario/dia-del-medio-ambiente-2/
CATEGORIES:Días Importantes
ATTACH;FMTTYPE=image/png:https://colegioloyola.edu.gt/wp-content/uploads/2021/09/descarga-6.png
END:VEVENT
BEGIN:VEVENT
DTSTART;VALUE=DATE:20220607
DTEND;VALUE=DATE:20220608
DTSTAMP:20260421T030711
CREATED:20211001T031852Z
LAST-MODIFIED:20211001T031852Z
UID:4803-1654560000-1654646399@colegioloyola.edu.gt
SUMMARY:Día mundial de los océanos
DESCRIPTION:Si el hombre no aprende a tratar los océanos y la lluvia forestal con respeto\, se extinguirá. \nPeter Benchlev
URL:https://colegioloyola.edu.gt/calendario/dia-mundial-de-los-oceanos-2/
CATEGORIES:Días Importantes
ATTACH;FMTTYPE=image/jpeg:https://colegioloyola.edu.gt/wp-content/uploads/2021/09/EVOVF4CIIFFMHLAE4HFB5J2X4U.jpg
END:VEVENT
BEGIN:VEVENT
DTSTART;VALUE=DATE:20220612
DTEND;VALUE=DATE:20220613
DTSTAMP:20260421T030711
CREATED:20211001T032253Z
LAST-MODIFIED:20211001T032253Z
UID:4806-1654992000-1655078399@colegioloyola.edu.gt
SUMMARY:Día mundial contra el trabajo infantil
DESCRIPTION:Si se cansan que solo sea de jugar.
URL:https://colegioloyola.edu.gt/calendario/dia-mundial-contra-el-trabajo-infantil-2/
CATEGORIES:Días Importantes
ATTACH;FMTTYPE=image/jpeg:https://colegioloyola.edu.gt/wp-content/uploads/2021/09/images-45.jpg
END:VEVENT
BEGIN:VEVENT
DTSTART;VALUE=DATE:20220614
DTEND;VALUE=DATE:20220615
DTSTAMP:20260421T030711
CREATED:20211001T032649Z
LAST-MODIFIED:20211001T032723Z
UID:4809-1655164800-1655251199@colegioloyola.edu.gt
SUMMARY:Sagrado Corazón de Jesús
DESCRIPTION:Alabado sea el sagrado Corazón de Jesús en el santísimo sacramento del Altar! ¡Sea por siempre bendito y alabado! ¡Sagrado Corazón de Jesús\, en Vos confío! Confío: El pasado a vuestra Misericordia\,\nEl presente a vuestro Amor Y el futuro a vuestra Providencia.
URL:https://colegioloyola.edu.gt/calendario/sagrado-corazon-de-jesus-2/
CATEGORIES:Días de Tradición
ATTACH;FMTTYPE=image/jpeg:https://colegioloyola.edu.gt/wp-content/uploads/2021/09/sagrado-corazon-de-jesus.jpg
END:VEVENT
BEGIN:VEVENT
DTSTART;VALUE=DATE:20220617
DTEND;VALUE=DATE:20220618
DTSTAMP:20260421T030711
CREATED:20211001T033523Z
LAST-MODIFIED:20211001T033654Z
UID:4812-1655424000-1655510399@colegioloyola.edu.gt
SUMMARY:Día del padre
DESCRIPTION:Dícese de esa persona que está ahí siempre. Encargado oficial de recogerte\, de llevarte a cualquier parte. Tu gran defensor y sustentador de tu economía más caprichosa. Es conocido por su gran paciencia y gran previsión de lo que está por llegar. Es el que sabe decir “no” porque es lo coherente\, y sabe decir “si” cuando es lo más conveniente.
URL:https://colegioloyola.edu.gt/calendario/dia-del-padre-2/
CATEGORIES:Días Importantes
ATTACH;FMTTYPE=image/jpeg:https://colegioloyola.edu.gt/wp-content/uploads/2021/09/WhatsApp-Image-2021-09-30-at-3.29.52-PM.jpeg
END:VEVENT
BEGIN:VEVENT
DTSTART;VALUE=DATE:20220617
DTEND;VALUE=DATE:20220618
DTSTAMP:20260421T030711
CREATED:20211001T033949Z
LAST-MODIFIED:20211001T034155Z
UID:4815-1655424000-1655510399@colegioloyola.edu.gt
SUMMARY:Día del colaborador Ignaciano
DESCRIPTION:En todo amar y servir.
URL:https://colegioloyola.edu.gt/calendario/dia-del-colaborador-ignaciano-2/
CATEGORIES:Días Importantes
ATTACH;FMTTYPE=image/jpeg:https://colegioloyola.edu.gt/wp-content/uploads/2021/09/images-46.jpg
END:VEVENT
BEGIN:VEVENT
DTSTART;VALUE=DATE:20220621
DTEND;VALUE=DATE:20220622
DTSTAMP:20260421T030711
CREATED:20211001T034749Z
LAST-MODIFIED:20211001T034749Z
UID:4819-1655769600-1655855999@colegioloyola.edu.gt
SUMMARY:San Luis Gonzaga S.J
DESCRIPTION:San Luis Gonzaga (Castiglione delle Stiviere\, Marquesado de Castiglione\, 9 de marzo de 1568-Roma\, 21 de junio de 1591) fue un religioso jesuita italiano.
URL:https://colegioloyola.edu.gt/calendario/san-luis-gonzaga-s-j-2/
CATEGORIES:Días de Tradición
ATTACH;FMTTYPE=image/jpeg:https://colegioloyola.edu.gt/wp-content/uploads/2021/09/descarga-59.jpg
END:VEVENT
BEGIN:VEVENT
DTSTART;VALUE=DATE:20220625
DTEND;VALUE=DATE:20220626
DTSTAMP:20260421T030711
CREATED:20211001T035724Z
LAST-MODIFIED:20211001T041100Z
UID:4823-1656115200-1656201599@colegioloyola.edu.gt
SUMMARY:Día del maestro
DESCRIPTION:El arte supremo del maestro consiste en despertar el goce de la expresión creativa y del conocimiento.
URL:https://colegioloyola.edu.gt/calendario/dia-del-maestro-2/
CATEGORIES:Días Importantes
ATTACH;FMTTYPE=image/jpeg:https://colegioloyola.edu.gt/wp-content/uploads/2021/09/WhatsApp-Image-2021-09-30-at-3.54.05-PM.jpeg
END:VEVENT
BEGIN:VEVENT
DTSTART;VALUE=DATE:20220630
DTEND;VALUE=DATE:20220701
DTSTAMP:20260421T030711
CREATED:20211001T040040Z
LAST-MODIFIED:20211001T040114Z
UID:4826-1656547200-1656633599@colegioloyola.edu.gt
SUMMARY:Día del ejercito
DESCRIPTION:Las Fuerzas Armadas de Guatemala se integra por fuerzas de tierra\, mar y aire. Estas son representadas por el Ejército de Tierra de Guatemala\, la Armada de Guatemala y la Fuerza Aérea Guatemalteca\, respectivamente.
URL:https://colegioloyola.edu.gt/calendario/dia-del-ejercito-2/
CATEGORIES:Días Importantes
ATTACH;FMTTYPE=image/jpeg:https://colegioloyola.edu.gt/wp-content/uploads/2021/09/descarga-60-e1633039159607.jpg
END:VEVENT
END:VCALENDAR