BEGIN:VCALENDAR
VERSION:2.0
PRODID:-//Colegio Loyola - ECPv6.15.13.1//NONSGML v1.0//EN
CALSCALE:GREGORIAN
METHOD:PUBLISH
X-WR-CALNAME:Colegio Loyola
X-ORIGINAL-URL:https://colegioloyola.edu.gt
X-WR-CALDESC:Events for Colegio Loyola
REFRESH-INTERVAL;VALUE=DURATION:PT1H
X-Robots-Tag:noindex
X-PUBLISHED-TTL:PT1H
BEGIN:VTIMEZONE
TZID:UTC
BEGIN:STANDARD
TZOFFSETFROM:+0000
TZOFFSETTO:+0000
TZNAME:UTC
DTSTART:20210101T000000
END:STANDARD
END:VTIMEZONE
BEGIN:VEVENT
DTSTART;VALUE=DATE:20220501
DTEND;VALUE=DATE:20220502
DTSTAMP:20260420T232737
CREATED:20211001T021723Z
LAST-MODIFIED:20211001T021943Z
UID:4773-1651363200-1651449599@colegioloyola.edu.gt
SUMMARY:V domingo de Pascua
DESCRIPTION:Jornada de reivindicación del movimiento obrero y un homenaje a los Mártires de Chicago\, un grupo de sindicalistas ejecutados en Estados Unidos  en 1886.
URL:https://colegioloyola.edu.gt/calendario/dia-del-trabajador-2/
CATEGORIES:Días Importantes
ATTACH;FMTTYPE=image/jpeg:https://colegioloyola.edu.gt/wp-content/uploads/2021/09/121c3d1082937b6d60270fa7d4c0783d.jpg
END:VEVENT
BEGIN:VEVENT
DTSTART;VALUE=DATE:20220509
DTEND;VALUE=DATE:20220510
DTSTAMP:20260420T232737
CREATED:20211001T023433Z
LAST-MODIFIED:20211001T040853Z
UID:4778-1652054400-1652140799@colegioloyola.edu.gt
SUMMARY:VI domingo de Pascua
DESCRIPTION:No los dejaré huérfanos. \nJuan 14\, 15-21
URL:https://colegioloyola.edu.gt/calendario/vi-domingo-de-pascua-2/
CATEGORIES:Días de Tradición
ATTACH;FMTTYPE=image/jpeg:https://colegioloyola.edu.gt/wp-content/uploads/2021/09/descarga-54.jpg
END:VEVENT
BEGIN:VEVENT
DTSTART;VALUE=DATE:20220510
DTEND;VALUE=DATE:20220511
DTSTAMP:20260420T232737
CREATED:20211001T024006Z
LAST-MODIFIED:20211001T024006Z
UID:4782-1652140800-1652227199@colegioloyola.edu.gt
SUMMARY:Día de la madre
DESCRIPTION:No existe un amor en el mundo como el de una madre. Un amor sin condiciones\, que lo entrega todo y no espera nada.
URL:https://colegioloyola.edu.gt/calendario/dia-de-la-madre-2/
CATEGORIES:Días Importantes
ATTACH;FMTTYPE=image/png:https://colegioloyola.edu.gt/wp-content/uploads/2021/09/183742140_1856132071216692_8568552855928387578_n.png
END:VEVENT
BEGIN:VEVENT
DTSTART;VALUE=DATE:20220515
DTEND;VALUE=DATE:20220516
DTSTAMP:20260420T232737
CREATED:20211001T025343Z
LAST-MODIFIED:20211001T025343Z
UID:4785-1652572800-1652659199@colegioloyola.edu.gt
SUMMARY:Día internacional de la familia
DESCRIPTION:Lo importante de una familia no es vivir juntos sino estar unidos.
URL:https://colegioloyola.edu.gt/calendario/dia-internacional-de-la-familia-2/
CATEGORIES:Días Importantes
ATTACH;FMTTYPE=image/jpeg:https://colegioloyola.edu.gt/wp-content/uploads/2021/09/WhatsApp-Image-2021-09-30-at-2.51.59-PM.jpeg
END:VEVENT
BEGIN:VEVENT
DTSTART;VALUE=DATE:20220516
DTEND;VALUE=DATE:20220517
DTSTAMP:20260420T232737
CREATED:20211001T025657Z
LAST-MODIFIED:20211001T025657Z
UID:4788-1652659200-1652745599@colegioloyola.edu.gt
SUMMARY:VII domingo de Pascua
DESCRIPTION:Yo ya no estoy en el mundo\, pero ellos si están en el mundo…
URL:https://colegioloyola.edu.gt/calendario/vii-domingo-de-pascua-2/
CATEGORIES:Días de Tradición
ATTACH;FMTTYPE=image/jpeg:https://colegioloyola.edu.gt/wp-content/uploads/2021/09/descarga-55.jpg
END:VEVENT
BEGIN:VEVENT
DTSTART;VALUE=DATE:20220518
DTEND;VALUE=DATE:20220519
DTSTAMP:20260420T232737
CREATED:20211001T030008Z
LAST-MODIFIED:20211001T030008Z
UID:4791-1652832000-1652918399@colegioloyola.edu.gt
SUMMARY:Día mundial de los museos
DESCRIPTION:
URL:https://colegioloyola.edu.gt/calendario/dia-mundial-de-los-museos/
CATEGORIES:Días Importantes
ATTACH;FMTTYPE=image/png:https://colegioloyola.edu.gt/wp-content/uploads/2021/09/images-1.png
END:VEVENT
BEGIN:VEVENT
DTSTART;VALUE=DATE:20220522
DTEND;VALUE=DATE:20220523
DTSTAMP:20260420T232737
CREATED:20211001T030227Z
LAST-MODIFIED:20211001T030227Z
UID:4794-1653177600-1653263999@colegioloyola.edu.gt
SUMMARY:Día del árbol
DESCRIPTION:
URL:https://colegioloyola.edu.gt/calendario/dia-del-arbol-2/
CATEGORIES:Días Importantes
ATTACH;FMTTYPE=image/jpeg:https://colegioloyola.edu.gt/wp-content/uploads/2021/09/descarga-56.jpg
END:VEVENT
BEGIN:VEVENT
DTSTART;VALUE=DATE:20220523
DTEND;VALUE=DATE:20220524
DTSTAMP:20260420T232737
CREATED:20211001T030752Z
LAST-MODIFIED:20211001T030752Z
UID:4797-1653264000-1653350399@colegioloyola.edu.gt
SUMMARY:Pentecostés
DESCRIPTION:Y yo le pediré al Padre\, y él les dará otro Consolador para que los acompañe siempre. \nJuan 14:16
URL:https://colegioloyola.edu.gt/calendario/pentecostes-2/
CATEGORIES:Días Importantes
ATTACH;FMTTYPE=image/jpeg:https://colegioloyola.edu.gt/wp-content/uploads/2021/09/descarga-57.jpg
END:VEVENT
END:VCALENDAR