BEGIN:VCALENDAR
VERSION:2.0
PRODID:-//Colegio Loyola - ECPv6.15.13.1//NONSGML v1.0//EN
CALSCALE:GREGORIAN
METHOD:PUBLISH
X-WR-CALNAME:Colegio Loyola
X-ORIGINAL-URL:https://colegioloyola.edu.gt
X-WR-CALDESC:Events for Colegio Loyola
REFRESH-INTERVAL;VALUE=DURATION:PT1H
X-Robots-Tag:noindex
X-PUBLISHED-TTL:PT1H
BEGIN:VTIMEZONE
TZID:UTC
BEGIN:STANDARD
TZOFFSETFROM:+0000
TZOFFSETTO:+0000
TZNAME:UTC
DTSTART:20210101T000000
END:STANDARD
END:VTIMEZONE
BEGIN:VEVENT
DTSTART;VALUE=DATE:20220308
DTEND;VALUE=DATE:20220309
DTSTAMP:20260420T160226
CREATED:20211001T224446Z
LAST-MODIFIED:20211004T205735Z
UID:4948-1646697600-1646783999@colegioloyola.edu.gt
SUMMARY:Dia de la mujer y Dia de la Ceiba
DESCRIPTION:El Día de la Mujer se celebra internacionalmente el día 8 de marzo de cada año. El Día de la Mujer ayuda a sensibilizar a la población\, gobiernos y Estados sobre la existencia de problemas que atentan contra los derechos de las mujeres y que aún necesitan ser resueltos. \nLa Ceiba\, el árbol nacional de Guatemala\, es orgullo de raíces mayas. La Ceiba Pentandra\, es el árbol Nacional de Guatemala. Simboliza el orgullo de nuestras soberanas raíces Mayas\, el 8 de marzo de 1955 el coronel Carlos Castillo Armas firmo un Acuerdo gubernativo.
URL:https://colegioloyola.edu.gt/calendario/dia-de-la-mujer-y-dia-de-la-ceiba-2/
ATTACH;FMTTYPE=image/jpeg:https://colegioloyola.edu.gt/wp-content/uploads/2021/10/dia-de-la-mujer.jpg
END:VEVENT
BEGIN:VEVENT
DTSTART;VALUE=DATE:20220313
DTEND;VALUE=DATE:20220314
DTSTAMP:20260420T160226
CREATED:20211004T210119Z
LAST-MODIFIED:20211004T210119Z
UID:4995-1647129600-1647215999@colegioloyola.edu.gt
SUMMARY:Dia de la no violencia contra la niñez
DESCRIPTION:El Día Nacional de la No Violencia contra la Niñez Decreto 37-2005\, establece que cada 13 de marzo las instituciones públicas y privadas conmemorarán en Guatemala este día. La fecha se establece a raíz del asesinato de Nahamán Carmona\, niño en riesgo de calle que en el año de 1990 fue brutalmente asesinado
URL:https://colegioloyola.edu.gt/calendario/dia-de-la-no-violencia-contra-la-ninez-2/
ATTACH;FMTTYPE=image/jpeg:https://colegioloyola.edu.gt/wp-content/uploads/2021/10/dia-de-la-no-violencia.jpg
END:VEVENT
BEGIN:VEVENT
DTSTART;VALUE=DATE:20220319
DTEND;VALUE=DATE:20220320
DTSTAMP:20260420T160226
CREATED:20211004T210434Z
LAST-MODIFIED:20211004T210550Z
UID:4998-1647648000-1647734399@colegioloyola.edu.gt
SUMMARY:Dia de San José
DESCRIPTION:El Día de San José tiene lugar el 19 de marzo de cada año. Esta celebración se debe a que su figura recuerda el papel sagrado de los padres como protectores y guías de las familias. San José tiene una gran cantidad de devotos a lo largo de América Latina: su imagen como padre humilde y justo sigue siendo venerada.
URL:https://colegioloyola.edu.gt/calendario/dia-de-san-jose-2/
ATTACH;FMTTYPE=image/jpeg:https://colegioloyola.edu.gt/wp-content/uploads/2021/10/Dia-de-san-jose.jpg
END:VEVENT
BEGIN:VEVENT
DTSTART;VALUE=DATE:20220320
DTEND;VALUE=DATE:20220321
DTSTAMP:20260420T160226
CREATED:20211004T211357Z
LAST-MODIFIED:20211004T211754Z
UID:5005-1647734400-1647820799@colegioloyola.edu.gt
SUMMARY:III domingo de cuaresma
DESCRIPTION:Este 20 de marzo la Iglesia celebra el tercer domingo de Cuaresma. El Evangelio del día corresponde a la lectura de Juan 2:13-25\, pasaje en el que Jesús señala: «Destruid este Santuario y en tres días lo levantaré».
URL:https://colegioloyola.edu.gt/calendario/iii-domingo-de-cuaresma-2/
ATTACH;FMTTYPE=image/jpeg:https://colegioloyola.edu.gt/wp-content/uploads/2021/10/3er-domingo-de-cuaresma.jpg
END:VEVENT
BEGIN:VEVENT
DTSTART;VALUE=DATE:20220322
DTEND;VALUE=DATE:20220323
DTSTAMP:20260420T160226
CREATED:20211004T210755Z
LAST-MODIFIED:20211004T210755Z
UID:5002-1647907200-1647993599@colegioloyola.edu.gt
SUMMARY:Dia internacional del agua
DESCRIPTION:El Día Mundial del Agua se celebra cada 22 de marzo para recordar la relevancia de este líquido esencial. A pesar de que todas las actividades sociales y económicas dependen en gran medida del abastecimiento de agua dulce y de su calidad\, 2 200 millones de personas viven sin acceso a agua potable.
URL:https://colegioloyola.edu.gt/calendario/dia-internacional-del-agua-2/
ATTACH;FMTTYPE=image/jpeg:https://colegioloyola.edu.gt/wp-content/uploads/2021/10/Dia-del-agua.jpg
END:VEVENT
BEGIN:VEVENT
DTSTART;VALUE=DATE:20220324
DTEND;VALUE=DATE:20220325
DTSTAMP:20260420T160226
CREATED:20211004T212248Z
LAST-MODIFIED:20211004T212248Z
UID:5010-1648080000-1648166399@colegioloyola.edu.gt
SUMMARY:Monseñor Romero
DESCRIPTION:Como arzobispo\, denunció en sus homilías dominicales numerosas violaciones de los derechos humanos y manifestó en público su solidaridad hacia las víctimas de la violencia política de su país.​ Su asesinato provocó la protesta internacional en demanda del respeto a los derechos humanos en El Salvador. Dentro de la Iglesia católica se le consideró como un obispo que defendía la opción preferencial por los pobres. En una de sus homilías\, afirmó: La misión de la Iglesia es identificarse con los pobres\, así la Iglesia encuentra su salvación.
URL:https://colegioloyola.edu.gt/calendario/monsenor-romero-2/
ATTACH;FMTTYPE=image/jpeg:https://colegioloyola.edu.gt/wp-content/uploads/2021/10/Monsenor-romero.jpg
END:VEVENT
BEGIN:VEVENT
DTSTART;VALUE=DATE:20220327
DTEND;VALUE=DATE:20220328
DTSTAMP:20260420T160226
CREATED:20211004T213501Z
LAST-MODIFIED:20211004T213501Z
UID:5013-1648339200-1648425599@colegioloyola.edu.gt
SUMMARY:Dia internacional del teatro y IV domingo de cuaresma
DESCRIPTION:El Día Mundial del Teatro se celebra el 27 de marzo de cada año y fue creado por Instituto Internacional del Teatro (ITI) en el año 1961. Su principal objetivo\, es dar a conocer lo que representa el teatro para la cultura a nivel mundial. \n \nEl pueblo de Dios celebra la Pascua\, después de entrar en la tierra prometida Lectura del libro de Josué 5\, 9a. 10-12
URL:https://colegioloyola.edu.gt/calendario/dia-internacional-del-teatro-y-iv-domingo-de-cuaresma/
ATTACH;FMTTYPE=image/jpeg:https://colegioloyola.edu.gt/wp-content/uploads/2021/10/4to-domingo-de-cuaresma.jpg
END:VEVENT
END:VCALENDAR