BEGIN:VCALENDAR
VERSION:2.0
PRODID:-//Colegio Loyola - ECPv6.15.13.1//NONSGML v1.0//EN
CALSCALE:GREGORIAN
METHOD:PUBLISH
X-ORIGINAL-URL:https://colegioloyola.edu.gt
X-WR-CALDESC:Events for Colegio Loyola
REFRESH-INTERVAL;VALUE=DURATION:PT1H
X-Robots-Tag:noindex
X-PUBLISHED-TTL:PT1H
BEGIN:VTIMEZONE
TZID:UTC
BEGIN:STANDARD
TZOFFSETFROM:+0000
TZOFFSETTO:+0000
TZNAME:UTC
DTSTART:20210101T000000
END:STANDARD
END:VTIMEZONE
BEGIN:VEVENT
DTSTART;VALUE=DATE:20220101
DTEND;VALUE=DATE:20220102
DTSTAMP:20260420T232938
CREATED:20210930T213358Z
LAST-MODIFIED:20210930T213358Z
UID:4276-1640995200-1641081599@colegioloyola.edu.gt
SUMMARY:Año Nuevo
DESCRIPTION:El Año Nuevo es la celebración del inicio del año siguiente en el calendario\, en función del tipo de calendario utilizado. La más común es la del 1 de enero\, del calendario gregoriano\, que fue instaurado por el papa Gregorio XIII en 1582\, y que se utiliza en la mayoría de los países del mundo.
URL:https://colegioloyola.edu.gt/calendario/ano-nuevo-2/
CATEGORIES:Días Importantes
ATTACH;FMTTYPE=image/jpeg:https://colegioloyola.edu.gt/wp-content/uploads/2021/09/feliz-ancc83o-nuevo.jpg
END:VEVENT
BEGIN:VEVENT
DTSTART;VALUE=DATE:20220106
DTEND;VALUE=DATE:20220107
DTSTAMP:20260420T232938
CREATED:20210930T213910Z
LAST-MODIFIED:20210930T213910Z
UID:4311-1641427200-1641513599@colegioloyola.edu.gt
SUMMARY:Dia de Reyes
DESCRIPTION:El Año Nuevo es la celebración del inicio del año siguiente en el calendario\, en función del tipo de calendario utilizado. La más común es la del 1 de enero\, del calendario gregoriano\, que fue instaurado por el papa Gregorio XIII en 1582\, y que se utiliza en la mayoría de los países del mundo.
URL:https://colegioloyola.edu.gt/calendario/dia-de-reyes-2/
CATEGORIES:Días Importantes
ATTACH;FMTTYPE=image/jpeg:https://colegioloyola.edu.gt/wp-content/uploads/2021/09/48356318-10157112938513701-8463370328217747456-n-1.jpg
END:VEVENT
BEGIN:VEVENT
DTSTART;VALUE=DATE:20220130
DTEND;VALUE=DATE:20220131
DTSTAMP:20260420T232938
CREATED:20210930T214412Z
LAST-MODIFIED:20210930T214436Z
UID:4331-1643500800-1643587199@colegioloyola.edu.gt
SUMMARY:Dia Mundial de la no violencia
DESCRIPTION:El 30 de enero se celebra este día\, dedicado a conmemorar en los centros educativos una cultura de no violencia y paz. La educación en y para la tolerancia\, la solidaridad\, la concordia\, el respeto a los Derechos Humanos\, la no-violencia y la paz son motivos para recordar
URL:https://colegioloyola.edu.gt/calendario/dia-mundial-de-la-no-violencia-2/
CATEGORIES:Días Importantes
ATTACH;FMTTYPE=image/jpeg:https://colegioloyola.edu.gt/wp-content/uploads/2021/09/96050-e36b7267-8f13-40d4-abf2-90e5b3b3f6e3.jpg
END:VEVENT
END:VCALENDAR