BEGIN:VCALENDAR
VERSION:2.0
PRODID:-//Colegio Loyola - ECPv6.15.13.1//NONSGML v1.0//EN
CALSCALE:GREGORIAN
METHOD:PUBLISH
X-WR-CALNAME:Colegio Loyola
X-ORIGINAL-URL:https://colegioloyola.edu.gt
X-WR-CALDESC:Events for Colegio Loyola
REFRESH-INTERVAL;VALUE=DURATION:PT1H
X-Robots-Tag:noindex
X-PUBLISHED-TTL:PT1H
BEGIN:VTIMEZONE
TZID:UTC
BEGIN:STANDARD
TZOFFSETFROM:+0000
TZOFFSETTO:+0000
TZNAME:UTC
DTSTART:20210101T000000
END:STANDARD
END:VTIMEZONE
BEGIN:VEVENT
DTSTART;VALUE=DATE:20220909
DTEND;VALUE=DATE:20220910
DTSTAMP:20260421T140009
CREATED:20210930T215307Z
LAST-MODIFIED:20210930T215307Z
UID:4423-1662681600-1662767999@colegioloyola.edu.gt
SUMMARY:San Pedro Claver S.J
DESCRIPTION:fue un misionero y sacerdote jesuita español que pasó a la posteridad por su entrega a aliviar el sufrimiento de los esclavos del puerto negrero de Cartagena de Indias donde vivió la mayor parte de su vida.
URL:https://colegioloyola.edu.gt/calendario/san-pedro-claver-s-j-2/
ATTACH;FMTTYPE=image/jpeg:https://colegioloyola.edu.gt/wp-content/uploads/2021/09/pedro_claver.jpg
END:VEVENT
BEGIN:VEVENT
DTSTART;VALUE=DATE:20220915
DTEND;VALUE=DATE:20220916
DTSTAMP:20260421T140009
CREATED:20210930T220742Z
LAST-MODIFIED:20210930T220742Z
UID:4454-1663200000-1663286399@colegioloyola.edu.gt
SUMMARY:Día de la Independencia
DESCRIPTION:Fue un momento histórico que marcó al país\, significó la separación de la Corona española a gran parte de Centroamérica.
URL:https://colegioloyola.edu.gt/calendario/dia-de-la-independencia-2/
ATTACH;FMTTYPE=image/jpeg:https://colegioloyola.edu.gt/wp-content/uploads/2021/09/NAC-PATRIA-10-.jpeg
END:VEVENT
BEGIN:VEVENT
DTSTART;VALUE=DATE:20220921
DTEND;VALUE=DATE:20220922
DTSTAMP:20260421T140009
CREATED:20210930T221055Z
LAST-MODIFIED:20210930T221155Z
UID:4464-1663718400-1663804799@colegioloyola.edu.gt
SUMMARY:Día internacional de la PAZ
DESCRIPTION:Se celebra el 21 de septiembre de cada año tras la decisión de la Asamblea General de las Naciones Unidas
URL:https://colegioloyola.edu.gt/calendario/dia-internacional-de-la-paz-2/
CATEGORIES:Días Importantes
ATTACH;FMTTYPE=image/jpeg:https://colegioloyola.edu.gt/wp-content/uploads/2021/09/DI-la-Paz-0.jpg
END:VEVENT
BEGIN:VEVENT
DTSTART;VALUE=DATE:20221001
DTEND;VALUE=DATE:20221002
DTSTAMP:20260421T140009
CREATED:20210930T223756Z
LAST-MODIFIED:20211001T000133Z
UID:4555-1664582400-1664668799@colegioloyola.edu.gt
SUMMARY:Dia de la niñez
DESCRIPTION:El Día del Niño es una celebración anual dedicada a la fraternidad y a la comprensión de la infancia en el mundo\, en que se efectúan actividades para la promoción del bienestar y de los derechos de los niños.
URL:https://colegioloyola.edu.gt/calendario/dia-de-la-ninez-2/
ATTACH;FMTTYPE=image/png:https://colegioloyola.edu.gt/wp-content/uploads/2021/09/nino.png
END:VEVENT
BEGIN:VEVENT
DTSTART;VALUE=DATE:20221003
DTEND;VALUE=DATE:20221004
DTSTAMP:20260421T140009
CREATED:20210930T225639Z
LAST-MODIFIED:20210930T225710Z
UID:4578-1664755200-1664841599@colegioloyola.edu.gt
SUMMARY:San Francisco Borja S.J.
DESCRIPTION:Francisco de Borja y Aragón\, también conocido como San Francisco de Borja​ ​ fue III General de la Compañía de Jesús\, IV duque de Gandía\, I marqués de Lombay\, Grande de España y Virrey de Cataluña.
URL:https://colegioloyola.edu.gt/calendario/san-francisco-borja-s-j-2/
END:VEVENT
BEGIN:VEVENT
DTSTART;VALUE=DATE:20221007
DTEND;VALUE=DATE:20221008
DTSTAMP:20260421T140009
CREATED:20210930T225841Z
LAST-MODIFIED:20211001T000106Z
UID:4583-1665100800-1665187199@colegioloyola.edu.gt
SUMMARY:Virgen del rosario
DESCRIPTION:Nuestra Señora del Rosario o Virgen del Rosario es una advocación de María venerada por la Iglesia católica \n 
URL:https://colegioloyola.edu.gt/calendario/virgen-del-rosario-2/
ATTACH;FMTTYPE=image/jpeg:https://colegioloyola.edu.gt/wp-content/uploads/2021/09/images-1.jpg
END:VEVENT
BEGIN:VEVENT
DTSTART;VALUE=DATE:20221020
DTEND;VALUE=DATE:20221021
DTSTAMP:20260421T140009
CREATED:20210930T230138Z
LAST-MODIFIED:20211001T000029Z
UID:4593-1666224000-1666310399@colegioloyola.edu.gt
SUMMARY:Dia de la Revolución
DESCRIPTION:  \n 
URL:https://colegioloyola.edu.gt/calendario/dia-de-la-revolucion-2/
ATTACH;FMTTYPE=image/jpeg:https://colegioloyola.edu.gt/wp-content/uploads/2021/09/descarga.jpg
END:VEVENT
BEGIN:VEVENT
DTSTART;VALUE=DATE:20221024
DTEND;VALUE=DATE:20221025
DTSTAMP:20260421T140009
CREATED:20210930T230011Z
LAST-MODIFIED:20211001T000006Z
UID:4588-1666569600-1666655999@colegioloyola.edu.gt
SUMMARY:Dia del Himno Nacional de Guatemala
DESCRIPTION:
URL:https://colegioloyola.edu.gt/calendario/dia-del-himno-nacional-de-guatemala-2/
ATTACH;FMTTYPE=image/jpeg:https://colegioloyola.edu.gt/wp-content/uploads/2021/09/descarga-1.jpg
END:VEVENT
END:VCALENDAR