BEGIN:VCALENDAR
VERSION:2.0
PRODID:-//Colegio Loyola - ECPv6.15.13.1//NONSGML v1.0//EN
CALSCALE:GREGORIAN
METHOD:PUBLISH
X-ORIGINAL-URL:https://colegioloyola.edu.gt
X-WR-CALDESC:Events for Colegio Loyola
REFRESH-INTERVAL;VALUE=DURATION:PT1H
X-Robots-Tag:noindex
X-PUBLISHED-TTL:PT1H
BEGIN:VTIMEZONE
TZID:UTC
BEGIN:STANDARD
TZOFFSETFROM:+0000
TZOFFSETTO:+0000
TZNAME:UTC
DTSTART:20210101T000000
END:STANDARD
END:VTIMEZONE
BEGIN:VEVENT
DTSTART;VALUE=DATE:20220426
DTEND;VALUE=DATE:20220427
DTSTAMP:20260420T232844
CREATED:20211005T003425Z
LAST-MODIFIED:20211005T003425Z
UID:5041-1650931200-1651017599@colegioloyola.edu.gt
SUMMARY:Monseñor Gerardi
DESCRIPTION:Descendiente de italianos\, hijo de Manuel Gerardi y Laura Conedera\, nació en la ciudad de Guatemala\, en la 3.ª calle y la 7 avenida de la zona central\, donde se observa aún una antigua casa de esquina. Fue el segundo de cuatro hermanos\, Francisco Gerardi Conedera\, Carmen Gerardi Conedera y Teresa Gerardi Conedera\, todos ya fallecidos. Estudió en el seminario de la ciudad y ganó una beca para estudiar teología en Nueva Orleans (Estados Unidos).​En 1946 fue ordenado sacerdote y sirvió en varias áreas rurales de Guatemala\, como Jalapa\, San Pedro Sacatepéquez y Palencia\, así como en la región de la ciudad capital. En 1967 fue elegido obispo de la diócesis de Verapaz\,  lugar marcado por la pobreza y la exclusión social de los indígenas\, residiendo en la ciudad de Cobán\, la tercera más grande del país
URL:https://colegioloyola.edu.gt/calendario/monsenor-gerardi-2/
ATTACH;FMTTYPE=image/jpeg:https://colegioloyola.edu.gt/wp-content/uploads/2021/10/monsenor-gerardi.jpg
END:VEVENT
END:VCALENDAR