BEGIN:VCALENDAR
VERSION:2.0
PRODID:-//Colegio Loyola - ECPv6.15.13.1//NONSGML v1.0//EN
CALSCALE:GREGORIAN
METHOD:PUBLISH
X-WR-CALNAME:Colegio Loyola
X-ORIGINAL-URL:https://colegioloyola.edu.gt
X-WR-CALDESC:Events for Colegio Loyola
REFRESH-INTERVAL;VALUE=DURATION:PT1H
X-Robots-Tag:noindex
X-PUBLISHED-TTL:PT1H
BEGIN:VTIMEZONE
TZID:UTC
BEGIN:STANDARD
TZOFFSETFROM:+0000
TZOFFSETTO:+0000
TZNAME:UTC
DTSTART:20210101T000000
END:STANDARD
END:VTIMEZONE
BEGIN:VEVENT
DTSTART;VALUE=DATE:20220411
DTEND;VALUE=DATE:20220418
DTSTAMP:20260420T230443
CREATED:20211005T002006Z
LAST-MODIFIED:20211005T002006Z
UID:5032-1649635200-1650239999@colegioloyola.edu.gt
SUMMARY:Semana Santa
DESCRIPTION:Así que\, para saber cuando es la fecha de la Semana Santa del año 2022 tenemos que realizar el siguiente cálculo: La primera luna llena después 21 de Marzo es el “Sábado 16 de Abril de 2022”. El siguiente Domingo a esta fecha es el 17 de Abril de 2022\, que será el Domingo de Pascua.
URL:https://colegioloyola.edu.gt/calendario/semana-santa-3/
ATTACH;FMTTYPE=image/jpeg:https://colegioloyola.edu.gt/wp-content/uploads/2021/10/semana-santa.jpg
END:VEVENT
BEGIN:VEVENT
DTSTART;VALUE=DATE:20220417
DTEND;VALUE=DATE:20220418
DTSTAMP:20260420T230443
CREATED:20211004T225919Z
LAST-MODIFIED:20211004T225919Z
UID:5026-1650153600-1650239999@colegioloyola.edu.gt
SUMMARY:Domingo de resurrección
DESCRIPTION:La fecha oficial del Domingo de Pascua (o Domingo de Resurrección) es el 17 de Abril de 2022. Constituye la fiesta más importante de la cristiandad porque conmemora la Resurrección de Jesús.  El Domingo de Pascua marca el final de la Semana Santa\, en la que se conmemora la crucifixión y muerte de Jesús.
URL:https://colegioloyola.edu.gt/calendario/domingo-de-resurreccion-2/
ATTACH;FMTTYPE=image/jpeg:https://colegioloyola.edu.gt/wp-content/uploads/2021/10/Domingo-de-resurreccion.jpg
END:VEVENT
END:VCALENDAR