BEGIN:VCALENDAR
VERSION:2.0
PRODID:-//Colegio Loyola - ECPv6.15.13.1//NONSGML v1.0//EN
CALSCALE:GREGORIAN
METHOD:PUBLISH
X-ORIGINAL-URL:https://colegioloyola.edu.gt
X-WR-CALDESC:Events for Colegio Loyola
REFRESH-INTERVAL;VALUE=DURATION:PT1H
X-Robots-Tag:noindex
X-PUBLISHED-TTL:PT1H
BEGIN:VTIMEZONE
TZID:UTC
BEGIN:STANDARD
TZOFFSETFROM:+0000
TZOFFSETTO:+0000
TZNAME:UTC
DTSTART:20210101T000000
END:STANDARD
END:VTIMEZONE
BEGIN:VEVENT
DTSTART;VALUE=DATE:20220410
DTEND;VALUE=DATE:20220411
DTSTAMP:20260420T230950
CREATED:20211004T214535Z
LAST-MODIFIED:20211004T214535Z
UID:5020-1649548800-1649635199@colegioloyola.edu.gt
SUMMARY:Domingo de Ramos
DESCRIPTION:El Domingo de Ramos marca el comienzo oficial de la Semana Santa y este año se celebra el 10 de abril de 2022. En esta fecha se recuerda a Jesucristo cuando realizó la entrada triunfal a Jerusalén. Fue alabado por una multitud que lo aclamaba como Rey con cantos y palmas.
URL:https://colegioloyola.edu.gt/calendario/domingo-de-ramos-2/
ATTACH;FMTTYPE=image/jpeg:https://colegioloyola.edu.gt/wp-content/uploads/2021/10/procesiones3.jpg
END:VEVENT
END:VCALENDAR