BEGIN:VCALENDAR
VERSION:2.0
PRODID:-//Colegio Loyola - ECPv6.15.13.1//NONSGML v1.0//EN
CALSCALE:GREGORIAN
METHOD:PUBLISH
X-ORIGINAL-URL:https://colegioloyola.edu.gt
X-WR-CALDESC:Events for Colegio Loyola
REFRESH-INTERVAL;VALUE=DURATION:PT1H
X-Robots-Tag:noindex
X-PUBLISHED-TTL:PT1H
BEGIN:VTIMEZONE
TZID:UTC
BEGIN:STANDARD
TZOFFSETFROM:+0000
TZOFFSETTO:+0000
TZNAME:UTC
DTSTART:20210101T000000
END:STANDARD
END:VTIMEZONE
BEGIN:VEVENT
DTSTART;VALUE=DATE:20220324
DTEND;VALUE=DATE:20220325
DTSTAMP:20260420T191609
CREATED:20211004T212248Z
LAST-MODIFIED:20211004T212248Z
UID:5010-1648080000-1648166399@colegioloyola.edu.gt
SUMMARY:Monseñor Romero
DESCRIPTION:Como arzobispo\, denunció en sus homilías dominicales numerosas violaciones de los derechos humanos y manifestó en público su solidaridad hacia las víctimas de la violencia política de su país.​ Su asesinato provocó la protesta internacional en demanda del respeto a los derechos humanos en El Salvador. Dentro de la Iglesia católica se le consideró como un obispo que defendía la opción preferencial por los pobres. En una de sus homilías\, afirmó: La misión de la Iglesia es identificarse con los pobres\, así la Iglesia encuentra su salvación.
URL:https://colegioloyola.edu.gt/calendario/monsenor-romero-2/
ATTACH;FMTTYPE=image/jpeg:https://colegioloyola.edu.gt/wp-content/uploads/2021/10/Monsenor-romero.jpg
END:VEVENT
END:VCALENDAR