BEGIN:VCALENDAR
VERSION:2.0
PRODID:-//Colegio Loyola - ECPv6.15.13.1//NONSGML v1.0//EN
CALSCALE:GREGORIAN
METHOD:PUBLISH
X-WR-CALNAME:Colegio Loyola
X-ORIGINAL-URL:https://colegioloyola.edu.gt
X-WR-CALDESC:Events for Colegio Loyola
REFRESH-INTERVAL;VALUE=DURATION:PT1H
X-Robots-Tag:noindex
X-PUBLISHED-TTL:PT1H
BEGIN:VTIMEZONE
TZID:UTC
BEGIN:STANDARD
TZOFFSETFROM:+0000
TZOFFSETTO:+0000
TZNAME:UTC
DTSTART:20210101T000000
END:STANDARD
END:VTIMEZONE
BEGIN:VEVENT
DTSTART;VALUE=DATE:20220319
DTEND;VALUE=DATE:20220320
DTSTAMP:20260420T191254
CREATED:20211004T210434Z
LAST-MODIFIED:20211004T210550Z
UID:4998-1647648000-1647734399@colegioloyola.edu.gt
SUMMARY:Dia de San José
DESCRIPTION:El Día de San José tiene lugar el 19 de marzo de cada año. Esta celebración se debe a que su figura recuerda el papel sagrado de los padres como protectores y guías de las familias. San José tiene una gran cantidad de devotos a lo largo de América Latina: su imagen como padre humilde y justo sigue siendo venerada.
URL:https://colegioloyola.edu.gt/calendario/dia-de-san-jose-2/
ATTACH;FMTTYPE=image/jpeg:https://colegioloyola.edu.gt/wp-content/uploads/2021/10/Dia-de-san-jose.jpg
END:VEVENT
END:VCALENDAR