BEGIN:VCALENDAR
VERSION:2.0
PRODID:-//Colegio Loyola - ECPv6.15.13.1//NONSGML v1.0//EN
CALSCALE:GREGORIAN
METHOD:PUBLISH
X-WR-CALNAME:Colegio Loyola
X-ORIGINAL-URL:https://colegioloyola.edu.gt
X-WR-CALDESC:Events for Colegio Loyola
REFRESH-INTERVAL;VALUE=DURATION:PT1H
X-Robots-Tag:noindex
X-PUBLISHED-TTL:PT1H
BEGIN:VTIMEZONE
TZID:UTC
BEGIN:STANDARD
TZOFFSETFROM:+0000
TZOFFSETTO:+0000
TZNAME:UTC
DTSTART:20210101T000000
END:STANDARD
END:VTIMEZONE
BEGIN:VEVENT
DTSTART;VALUE=DATE:20220308
DTEND;VALUE=DATE:20220309
DTSTAMP:20260420T190914
CREATED:20211001T224446Z
LAST-MODIFIED:20211004T205735Z
UID:4948-1646697600-1646783999@colegioloyola.edu.gt
SUMMARY:Dia de la mujer y Dia de la Ceiba
DESCRIPTION:El Día de la Mujer se celebra internacionalmente el día 8 de marzo de cada año. El Día de la Mujer ayuda a sensibilizar a la población\, gobiernos y Estados sobre la existencia de problemas que atentan contra los derechos de las mujeres y que aún necesitan ser resueltos. \nLa Ceiba\, el árbol nacional de Guatemala\, es orgullo de raíces mayas. La Ceiba Pentandra\, es el árbol Nacional de Guatemala. Simboliza el orgullo de nuestras soberanas raíces Mayas\, el 8 de marzo de 1955 el coronel Carlos Castillo Armas firmo un Acuerdo gubernativo.
URL:https://colegioloyola.edu.gt/calendario/dia-de-la-mujer-y-dia-de-la-ceiba-2/
ATTACH;FMTTYPE=image/jpeg:https://colegioloyola.edu.gt/wp-content/uploads/2021/10/dia-de-la-mujer.jpg
END:VEVENT
END:VCALENDAR