BEGIN:VCALENDAR
VERSION:2.0
PRODID:-//Colegio Loyola - ECPv6.15.13.1//NONSGML v1.0//EN
CALSCALE:GREGORIAN
METHOD:PUBLISH
X-ORIGINAL-URL:https://colegioloyola.edu.gt
X-WR-CALDESC:Events for Colegio Loyola
REFRESH-INTERVAL;VALUE=DURATION:PT1H
X-Robots-Tag:noindex
X-PUBLISHED-TTL:PT1H
BEGIN:VTIMEZONE
TZID:UTC
BEGIN:STANDARD
TZOFFSETFROM:+0000
TZOFFSETTO:+0000
TZNAME:UTC
DTSTART:20210101T000000
END:STANDARD
END:VTIMEZONE
BEGIN:VEVENT
DTSTART;VALUE=DATE:20220221
DTEND;VALUE=DATE:20220222
DTSTAMP:20260420T232918
CREATED:20210930T221110Z
LAST-MODIFIED:20210930T221220Z
UID:4460-1645401600-1645487999@colegioloyola.edu.gt
SUMMARY:I domingo de cuaresma y Dia de la lengua materna
DESCRIPTION:El Evangelio del día corresponde a la lectura de Mateo 4: 1-11\, pasaje que narra el momento en que Jesús es tentado en el desierto. \nEl Día Internacional de la Lengua Materna se conmemora cada 21 de febrero y tiene como objetivo promover la diversidad y el respeto cultural. Guatemala reconoce 25 idiomas\, pero según la Academia de Lenguas Mayas al menos cuatro están a punto de desaparecer.
URL:https://colegioloyola.edu.gt/calendario/i-domingo-de-cuaresma-y-dia-de-la-lengua-materna/
CATEGORIES:Días Importantes
ATTACH;FMTTYPE=image/jpeg:https://colegioloyola.edu.gt/wp-content/uploads/2021/09/descarga-67.jpg
END:VEVENT
END:VCALENDAR