BEGIN:VCALENDAR
VERSION:2.0
PRODID:-//Colegio Loyola - ECPv6.15.13.1//NONSGML v1.0//EN
CALSCALE:GREGORIAN
METHOD:PUBLISH
X-ORIGINAL-URL:https://colegioloyola.edu.gt
X-WR-CALDESC:Events for Colegio Loyola
REFRESH-INTERVAL;VALUE=DURATION:PT1H
X-Robots-Tag:noindex
X-PUBLISHED-TTL:PT1H
BEGIN:VTIMEZONE
TZID:UTC
BEGIN:STANDARD
TZOFFSETFROM:+0000
TZOFFSETTO:+0000
TZNAME:UTC
DTSTART:20210101T000000
END:STANDARD
END:VTIMEZONE
BEGIN:VEVENT
DTSTART;VALUE=DATE:20220220
DTEND;VALUE=DATE:20220221
DTSTAMP:20260420T232919
CREATED:20210930T220619Z
LAST-MODIFIED:20210930T220619Z
UID:4439-1645315200-1645401599@colegioloyola.edu.gt
SUMMARY:Dia de Tecún Umán y la Marimba
DESCRIPTION:En nuestra querida patria Guatemala este y todos los 20 de febrero se celebra el Día de la Marimba\, Instrumento Nacional y de Tecun Umán también Héroe Nacional. \nComo símbolos patrios todos los guatemaltecos estamos llamados a exaltarlos públicamente\, principalmente en los centros educativos deben celebrarse actos cívicos en conmemoración tanto de Tecun Umán como de la Marimba.
URL:https://colegioloyola.edu.gt/calendario/dia-de-tecun-uman-y-la-marimba-2/
CATEGORIES:Días Importantes
ATTACH;FMTTYPE=image/jpeg:https://colegioloyola.edu.gt/wp-content/uploads/2021/09/descarga-66.jpg
END:VEVENT
END:VCALENDAR