BEGIN:VCALENDAR
VERSION:2.0
PRODID:-//Colegio Loyola - ECPv6.15.13.1//NONSGML v1.0//EN
CALSCALE:GREGORIAN
METHOD:PUBLISH
X-ORIGINAL-URL:https://colegioloyola.edu.gt
X-WR-CALDESC:Events for Colegio Loyola
REFRESH-INTERVAL;VALUE=DURATION:PT1H
X-Robots-Tag:noindex
X-PUBLISHED-TTL:PT1H
BEGIN:VTIMEZONE
TZID:UTC
BEGIN:STANDARD
TZOFFSETFROM:+0000
TZOFFSETTO:+0000
TZNAME:UTC
DTSTART:20210101T000000
END:STANDARD
END:VTIMEZONE
BEGIN:VEVENT
DTSTART;VALUE=DATE:20220217
DTEND;VALUE=DATE:20220218
DTSTAMP:20260420T232844
CREATED:20210930T215806Z
LAST-MODIFIED:20210930T215806Z
UID:4432-1645056000-1645142399@colegioloyola.edu.gt
SUMMARY:Miércoles de Ceniza
DESCRIPTION:En la tradición bíblica la ceniza hace referencia a un sentimiento de humildad\, particularmente delante de Dios. Le recuerda al cristiano su origen y su fin\, y que la vida terrenal es temporal. Para el pueblo judío\, la ceniza era un símbolo que representaba la fugacidad de la vida y el arrepentimiento de los pecados
URL:https://colegioloyola.edu.gt/calendario/miercoles-de-ceniza-2/
CATEGORIES:Días de Tradición
ATTACH;FMTTYPE=image/jpeg:https://colegioloyola.edu.gt/wp-content/uploads/2021/09/maxresdefault-3.jpg
END:VEVENT
END:VCALENDAR