BEGIN:VCALENDAR
VERSION:2.0
PRODID:-//Colegio Loyola - ECPv6.15.13.1//NONSGML v1.0//EN
CALSCALE:GREGORIAN
METHOD:PUBLISH
X-WR-CALNAME:Colegio Loyola
X-ORIGINAL-URL:https://colegioloyola.edu.gt
X-WR-CALDESC:Events for Colegio Loyola
REFRESH-INTERVAL;VALUE=DURATION:PT1H
X-Robots-Tag:noindex
X-PUBLISHED-TTL:PT1H
BEGIN:VTIMEZONE
TZID:UTC
BEGIN:STANDARD
TZOFFSETFROM:+0000
TZOFFSETTO:+0000
TZNAME:UTC
DTSTART:20210101T000000
END:STANDARD
END:VTIMEZONE
BEGIN:VEVENT
DTSTART;VALUE=DATE:20220211
DTEND;VALUE=DATE:20220212
DTSTAMP:20260420T232739
CREATED:20210930T214924Z
LAST-MODIFIED:20210930T214924Z
UID:4382-1644537600-1644623999@colegioloyola.edu.gt
SUMMARY:Dia de la Monja Blanca
DESCRIPTION:El Día Nacional de la Monja Blanca”; para conmemorar este día se realizarán en todo el territorio nacional actividades académicas\, deportivas\, recreacionales\, exhibiciones\, cursos\, talleres y todo tipo de celebraciones que tiendan a enaltecer los valores patrios de amor .
URL:https://colegioloyola.edu.gt/calendario/dia-de-la-monja-blanca-2/
CATEGORIES:Días Importantes
ATTACH;FMTTYPE=image/jpeg:https://colegioloyola.edu.gt/wp-content/uploads/2021/09/monja-blanca-1.jpg
END:VEVENT
END:VCALENDAR