BEGIN:VCALENDAR
VERSION:2.0
PRODID:-//Colegio Loyola - ECPv6.15.13.1//NONSGML v1.0//EN
CALSCALE:GREGORIAN
METHOD:PUBLISH
X-ORIGINAL-URL:https://colegioloyola.edu.gt
X-WR-CALDESC:Events for Colegio Loyola
REFRESH-INTERVAL;VALUE=DURATION:PT1H
X-Robots-Tag:noindex
X-PUBLISHED-TTL:PT1H
BEGIN:VTIMEZONE
TZID:UTC
BEGIN:STANDARD
TZOFFSETFROM:+0000
TZOFFSETTO:+0000
TZNAME:UTC
DTSTART:20210101T000000
END:STANDARD
END:VTIMEZONE
BEGIN:VEVENT
DTSTART;VALUE=DATE:20220202
DTEND;VALUE=DATE:20220203
DTSTAMP:20260420T232843
CREATED:20210930T214702Z
LAST-MODIFIED:20210930T214702Z
UID:4371-1643760000-1643846399@colegioloyola.edu.gt
SUMMARY:Virgen de Candelaria
DESCRIPTION:El 30 de enero se celebra este día\, dedicado a conmemorar en los centros educativos una cultura de no violencia y paz. La educación en y para la tolerancia\, la solidaridad\, la concordia\, el respeto a los Derechos Humanos\, la no-violencia y la paz son motivos para recordar
URL:https://colegioloyola.edu.gt/calendario/virgen-de-candelaria-2/
CATEGORIES:Días de Tradición
ATTACH;FMTTYPE=image/jpeg:https://colegioloyola.edu.gt/wp-content/uploads/2021/09/VIRGEN-CANDELARIA-1-700x700-1.jpg
END:VEVENT
END:VCALENDAR