BEGIN:VCALENDAR
VERSION:2.0
PRODID:-//Colegio Loyola - ECPv6.15.13.1//NONSGML v1.0//EN
CALSCALE:GREGORIAN
METHOD:PUBLISH
X-WR-CALNAME:Colegio Loyola
X-ORIGINAL-URL:https://colegioloyola.edu.gt
X-WR-CALDESC:Events for Colegio Loyola
REFRESH-INTERVAL;VALUE=DURATION:PT1H
X-Robots-Tag:noindex
X-PUBLISHED-TTL:PT1H
BEGIN:VTIMEZONE
TZID:UTC
BEGIN:STANDARD
TZOFFSETFROM:+0000
TZOFFSETTO:+0000
TZNAME:UTC
DTSTART:20200101T000000
END:STANDARD
END:VTIMEZONE
BEGIN:VEVENT
DTSTART;VALUE=DATE:20211024
DTEND;VALUE=DATE:20211025
DTSTAMP:20260422T150417
CREATED:20210930T223136Z
LAST-MODIFIED:20211001T000229Z
UID:4531-1635033600-1635119999@colegioloyola.edu.gt
SUMMARY:Dia del Himno Nacional de Guatemala
DESCRIPTION:Fue en el año de 1984 en donde se oficializó cada 24 de octubre como el Día del Himno Nacional de Guatemala\, día en que se conmemora el nacimiento del compositor nacional Rafael Álvarez Ovalle. \n 
URL:https://colegioloyola.edu.gt/calendario/dia-del-himno-nacional-de-guatemala/
ATTACH;FMTTYPE=image/jpeg:https://colegioloyola.edu.gt/wp-content/uploads/2021/09/descarga-1.jpg
END:VEVENT
END:VCALENDAR